Workbook

Sheet ABOUT
B2: About the Sustainability Reporting Standard for Social Housing (SRS or the Standard)
B3: The SRS is designed to be a consistent, transparent, and comparable way to report Environmental, Social and Governance (ESG) performance for Housing Providers in the UK. It is developed and managed by Sustainability for Housing - https://sustainabilityforhousing.org.uk/
B4: Reporting Expectations
B5: - Adopters of the SRS should publicly report against the criteria on an annual basis. - Adopters of the SRS should report using a ‘comply or explain’ approach in their reports i.e. where providers are unable to report against a criterion (for example, because they do not have the data) they should describe steps they are taking, and the expected date, that they will be able to do so. In this Input Tool, where they are unable to report, they should leave the response cell blank. - SRS reports should include year-on-year comparisons where relevant. - Where an SRS report has been through an external validation process, this should be explicitly described in the report. - Adopters should share their results with Housemark via this Input Tool.
B7: Using this Input Tool
B8: This Excel document is split into 3 sheets (accessible along the tabs at the bottom): 1) ABOUT - Information about the SRS and the spreadsheet (this page) 2) ESG Themes - Overview of the 8 themes of the SRS and their alignment to the SDGs 3) RESPONSE - The data input sheet where Adopters report against the criteria.
B10: Data Entry on Sheet titled 'RESPONSE'
B11: Please enter your responses in Column F and I.
B14: Version | C14: Date Tool Shared
B15: Spring 2026 SRS Criteria 2.1 | C15: 46125

Sheet ESG Themes
B2: ESG Area | C2: Theme # | D2: Theme Name | E2: Description | F2: SDG Goal | H2: SDG Target
B3: Environmental | C3: T1 | D3: Climate | E3: Prevents and mitigates the risk of climate change | F3: 13 | G3: Climate Action | H3: 13.2 | I3: 13.2: Integrate climate change measures into national policies, strategies and planning
C4: T2 | D4: Nature | E4: Promotes ecological sustainability | F4: 15 | G4: Life on Land | H4: 15.5 15.9 | I4: 15.5: Take urgent and significant action to reduce the degradation of natural habitats, halt the loss of biodiversity and, by 2020, protect and prevent the extinction of threatened species 15.9: By 2020, integrate ecosystem and biodiversity values into national and local planning, development processes, poverty reduction strategies and accounts
C5: T3 | D5: Resource Management | E5: Sustainable management of natural resources and responsible procurement | F5: 12 | G5: Responsible Consumption and Production | H5: 12.5 12.6 12.7 | I5: 12.5: By 2030, substantially reduce waste generation through prevention, reduction, recycling and reuse 12.6: Encourage companies, especially large and transnational companies, to adopt sustainable practices and to integrate sustainability information into their reporting cycle 12.7 Promote public procurement practices that are sustainable, in accordance with national policies and priorities
B6: Social | C6: T4 | D6: Affordability | E6: Provides affordable and secure housing | F6: 11 | G6: Sustainable Cities and Communities | H6: 11.1 | I6: 11.1: By 2030, ensure access for all to adequate, safe and affordable housing and basic services and upgrade slums
F7: 10 | G7: Reduced Inequalities | H7: 10.1 10.2 | I7: 10.1: By 2030, progressively achieve and sustain income growth of the bottom 40 per cent of the population at a rate higher than the national average 10.2: By 2030, empower and promote the social, economic and political inclusion of all, irrespective of age, sex, disability, race, ethnicity, origin, religion or economic or other status
C8: T5 | D8: Building Safety and Quality | E8: Resident safety and building quality are well managed | F8: 11 | G8: Sustainable Cities and Communities | H8: 11.1 | I8: 11.1: By 2030, ensure access for all to adequate, safe and affordable housing and basic services and upgrade slums
C9: T6 | D9: Residents and Community | E9: Listens to and supports residents and local communities | F9: 11 | G9: Sustainable Cities and Communities | H9: 11.3 | I9: 11.3: By 2030, enhance inclusive and sustainable urbanization and capacity for participatory, integrated and sustainable human settlement planning and management in all countries
B10: Governance | C10: T7 | D10: Structure and Board | E10: High-quality organisational leadership, accountability and oversight | F10: 16 | G10: Peace, Justice and Strong Institutions | H10: 16.6 16.7 | I10: 16.6: Develop effective, accountable and transparent institutions at all levels 16.7: Ensure responsive, inclusive, participatory and representative decision-making at all levels
C11: T8 | D11: Employees | E11: Supports employees | F11: 8 | G11: Decent Work and Economic Growth | H11: 8.5 | I11: 8.5: By 2030, achieve full and productive employment and decent work for all women and men, including for young people and persons with disabilities, and equal pay for work of equal value

Sheet Response
A1: DISCLOSURE AGAINST CRITERIA
F3: RESPONSE
D4: Housing Provider details | E4: Name (from dropdown - or type in if no name exists) | F4: Midland Heart
E5: Location (if in more than one English region, select ‘England’; if across multiple nations, select ‘United Kingdom’) | F5: England
E6: Date of SRS disclosure | F6: 46318
E7: Reporting period (month/year - month/year) | F7: 04/25 - 03/26 | G7: y
E8: Is the housing provider registered with the national regulator of social housing? | F8: Yes
E9: Which Code of Governance does the housing provider follow, if any? | F9: UK Corporate Governance Code 2024 | G9: ...(enter 'Other' governance code here)…
E10: Is the housing provider a Not-For-Profit? | F10: Yes
E11: If not, who is the largest shareholder?
E12: What is their % of economic ownership?
E13: What % of voting rights do they control?
A15: Theme # | C15: Criteria # | D15: Criteria | E15: Measurement Unit | F15: RESPONSE | G15: Enhanced Reporting Option | H15: Measurement Unit | I15: RESPONSE
A16: Climate | B16: T1 | C16: C1 | D16: Distribution of EPC ratings of the housing provider's existing homes (those completed before the last financial year). | E16: % of homes rated A | F16: 0.010960201 | G16: Average SAP rating of existing homes (those completed before the last financial year). | H16: Average Rating | I16: 74
E17: % of homes rated B | F17: 0.20671449 | G17: Energy use intensity of existing homes (those completed before the last financial year). | H17: kWh/m²/yr | I17: 194
E18: % of homes rated C | F18: 0.62039835
E19: % of homes rated D | F19: 0.16163566
E20: % of homes rated E or worse | F20: 0.00018206314
E21: % of homes without EPC rating (unknown) | F21: 0.00010923788
C22: C2 | D22: Distribution of EPC ratings of the housing provider's new homes (those completed in the last financial year). | E22: % of homes rated A | F22: 0.3 | G22: Average SAP rating of new homes (those completed in the last financial year). | H22: Average Rating | I22: 85
E23: % of homes rated B | F23: 0.7
E24: % of homes rated C | F24: 0
E25: % of homes rated D | F25: 0
E26: % of homes rated E or worse | F26: 0
E27: % of homes without EPC rating (unknown) | F27: 0
C28: C3 | D28: Does the housing provider have a Net Zero target and strategy? If so, what is it and when does the housing provider intend to be Net Zero by? | E28: Yes/No | F28: Yes | G28: Is the housing provider's net zero commitment in line with the Science Based Target (SBT) initiative? | H28: Yes/No | I28: Yes
E29: Qualitative response | F29: We have a corporate target to be net zero by 2050. We also have corporate mid-term targets to reduce our Scope 1 & 2 emissions within a WB2C pathway by 2030 and an EPC C or above target for all our homes by 2030. | G29: Does the housing provider have a costed net zero transition plan? | H29: Yes/No | I29: Partial. We have a plan to meet the current legal requirements, and we have stress tested further expenditure to meet draft MEES requirements to 2039
C30: C4 | D30: What progress has the housing provider achieved in the last 12 months towards its Net Zero targets and strategy? What retrofit activities has the housing provider undertaken in the last 12 months in relation to its housing stock? | E30: Qualitative response | F30: Our total CO2 emissions were 91,593 tonnes, representing a decrease of c.12,000 tonnes compared to last year. We are c.32,000 tonnes below our 2019-20 baseline and on track to meet our science based Well Below 2°C (WB2C) net zero target for 2050. Key drivers of change: • Property portfolio simplification – The sale of properties last year led to significant reductions in our Scope 1 and 2 purchased energy emissions. This has been partially offset by the building of new energy efficient homes. • Purchasing bulk renewable electricity – our purchased contracted electricity is fully renewable (REGO backed) since October 2025. • Fleet and travel emissions – Scope 1 fuel use from our van fleet increased slightly reflecting a higher number of jobs attended by operatives. Expensed fuel use by colleagues also rose, driven by increasing scheme visits and policy change. • Home energy efficiency – Improvements to independently heated homes delivered a combined c7,000 tonnes reduction in Scope 3 emissions. We have now reached 84% EPC C or above, up from 80% last year. Energy efficiency measures: We increased investment in energy efficiency through our retrofit programmes and Homes for Modern Living initiatives in tenants’ homes, and we built all new homes to a high energy-efficiency standard of EPC B or above. • 312 homes improved from EPC E–D to EPC C–A through our Social Housing Decarbonisation Fund (SHDF) Wave 2 programme • 871 new smart or automated meters (AMRs) installed since 2023 • 1,662 new energy-efficient boilers installed • 201 electric heating systems installed (including storage and panel heaters) • 621 solar PV arrays installed across existing homes, including in-roof PV through our re-roofing programme • 140 properties fitted with new double-glazed windows • 436 properties received insulation and triple-glazed windows • 849 insulation top-ups completed • 1,327 homes improved from EPC D (or below) to EPC C (or above) toward our 2030 goal | G30: Number of homes that have been retrofitted in the last financial year. | H30: # of homes | I30: 1327
G31: Homes that have been retrofitted in the last financial year as a percentage of the total homes the housing provider needs to retrofit to meet its net zero commitments. | H31: % of homes requiring retrofit activities | I31: =1327/5811 -> 0.22836001
C32: C5 | D32: Scope 1, Scope 2 and Scope 3 Green House Gas emissions Scope 1, Scope 2 and Scope 3 Green House Gas emissions per home If unable to report emissions data, please state when the housing provider is expected to be able to do so. | E32: Scope 1: tonnes CO2 equivalent | F32: 3024.9797 | G32: Does the housing provider qualify for SECR reporting? | H32: Yes/No | I32: Yes
E33: Scope 2: tonnes CO2 equivalent | F33: 667.63 | G33: SECR Intensity Ratio for Total Emissions (Scope 1-3) | H33: tonnes CO2e/m²
E34: Scope 3: tonnes CO2 [Category 1 – Purchased goods and services] | F34: 28319.328
E35: Scope 3: tonnes CO2 [Category 2 – Capital goods]
E36: Scope 3: tonnes CO2 [Category 3 – Fuel- and energy-related activities]
E37: Scope 3: tonnes CO2 [Category 4 – Upstream transportation and distribution] | F37: 152.82046
E38: Scope 3: tonnes CO2 [Category 5 – Waste generated in operations] | F38: 0.21557
E39: Scope 3: tonnes CO2 [Category 6 – Business travel] | F39: 248.65045
E40: Scope 3: tonnes CO2 [Category 7 – Employee commuting] | F40: 853.92088
E41: Scope 3: tonnes CO2 [Category 8 – Upstream leased assets]
E42: Scope 3: tonnes CO2 [Category 9 – Downstream transportation and distribution]
...

Sheet Options
C1: Stock | E1: Region | G1: Dropdown options: | I1: SfH Org Name | J1: Identity | K1: NotCurrentIdentity
A2: Yes | C2: x<1,000 homes | E2: North West | G2: The National Housing Federation Code of Governance 2020 | I2: 54North Homes | J2: 54North Homes
A3: No | C3: 1,000<x≤10,000 homes | E3: North East | G3: Community Housing Cymru Code of Governance 2021 | I3: A2Dominion Group | J3: A2Dominion Group
A4: No, but planning to develop one | C4: 10,000<x≤50,000 homes | E4: Yorkshire and The Humber | G4: Scottish Housing Regulator’s Standards of Governance and Financial Management | I4: Abri | J4: abrdn | K4: 1
C5: 50,000<x homes | E5: West Midlands | G5: Northern Ireland Federation of Housing Associations Code of Governance 2023 | I5: Accent Group/Housing | J5: Abri
E6: East Midlands | G6: UK Corporate Governance Code 2024 | I6: Acis Group | J6: Accent Group | K6: 0
E7: South West | G7: Charity Commission Code of Governance | I7: Adra | J7: Acis Group
E8: South East | G8: British Property Federation Code of Governance 2024 | I8: AHH (Affordable Housing & Healthcare Group) | J8: Adra
E9: London | G9: ecoDa Corporate Governance Guidance and Principles for Unlisted Companies | I9: Alliance Homes | J9: AHH (Affordable Housing & Healthcare Group) | K9: 1
E10: Wales | G10: Other | I10: Almond Housing Association | J10: Alliance Homes
E11: Scotland | I11: Amplius | J11: Anchor Hanover
E12: Ireland | I12: Anchor | J12: Angus Housing Association
E13: England | I13: Andium Homes | J13: Aster Group
E14: United Kingdom | I14: Angus Housing Association | J14: Aviva Investors | K14: 1
I15: Apex Housing Association | J15: BAE Systems Pension Funds Investment Management | K15: 1
I16: Ardenglen Housing Association | J16: Barclays | K16: 1
I17: Aster Group | J17: Barnsbury Housing Association
I18: Barnsbury Housing Association | J18: Bield Housing and Care
I19: Beacon Cymru Group | J19: BlackRock Investment Management (UK) | K19: 1
I20: Bield Housing and Care | J20: Blackwood Homes
I21: Black Country Housing Group | J21: BPHA
I22: Blackwood Homes and Care | J22: Broadacres Housing Association
I23: Bluepine Living | J23: Broadland Housing Association
I24: bpha | J24: Bromford Group
I25: Broadacres Housing Association | J25: Calico Homes
I26: Broadland Housing | J26: Caredig
I27: Bromford Flagship | J27: Cartrefi Conwy
I28: Cadarn Housing Group | J28: Choice Housing Ireland
I29: Caledonia Housing Association | J29: CHP
I30: Calico Homes | J30: Chrysalis Supported Association Ltd. | K30: 1
I31: Cardiff Community Housing Association | J31: Civitas Investment Management | K31: 1
I32: Caredig | J32: Civitas Social Housing PLC | K32: 1
I33: Cartrefi Conwy | J33: Clarion Housing Group
I34: Choice Housing | J34: Clwyd Alyn Housing Association
I35: CHP (Chelmer Housing Partnership) | J35: Clydesdale and Yorkshire Bank | K35: 1
I36: Chrysalis Supported Association Ltd. | J36: Coastal Housing Group
I37: Citizen Housing | J37: Cobalt Housing
I38: Clarion Housing Group | J38: Community Housing
I39: ClwydAlyn | J39: Connect Housing
I40: Coastline Housing | J40: Cornerstone Housing
...

Sheet Export
A1: OrgIdentity | B1: Theme | C1: ThemeCode | D1: Criteria | E1: CriteriaCode | F1: Measurement | G1: MeasurementCode | H1: ComponentCode | I1: Value | J1: ComponentCodeOld
A2: =$I$2 -> Midland Heart | B2: Organisation | C2: T0 | D2: Housing Provider details | E2: C0 | F2: Name | G2: M1 | H2: T0C0_M1 | I2: =IF(ISBLANK(Response!F4),"",Response!F4) -> Midland Heart | J2: T0C0_M1
A3: =$I$2 -> Midland Heart | B3: Organisation | C3: T0 | D3: Housing Provider details | E3: C0 | F3: Location (if in more than one English region, select ‘England’; if across multiple nations, select ‘United Kingdom’) | G3: M2 | H3: T0C0_M2 | I3: =IF(ISBLANK(Response!F5),"",Response!F5) -> England | J3: T0C0_M2
A4: =$I$2 -> Midland Heart | B4: Organisation | C4: T0 | D4: Housing Provider details | E4: C0 | F4: Date of SRS disclosure | G4: M3 | H4: T0C0_M3 | I4: =IF(ISBLANK(Response!F6),"",Response!F6) -> 46318 | J4: T0C0_M3
A5: =$I$2 -> Midland Heart | B5: Organisation | C5: T0 | D5: Housing Provider details | E5: C0 | F5: Reporting period (month/year - month/year) | G5: M4 | H5: T0C0_M4 | I5: =IF(ISBLANK(Response!F7),"",Response!F7) -> 04/25 - 03/26 | J5: T0C0_M4
B6: Organisation | C6: T0 | D6: Housing Provider details | E6: C0 | F6: Is the housing provider registered with the national regulator of social housing? | G6: M5 | H6: T0C0_M5 | I6: =IF(ISBLANK(Response!F8),"",Response!F8) -> Yes
B7: Organisation | C7: T0 | D7: Housing Provider details | E7: C0 | F7: Which Code of Governance does the housing provider follow, if any? | G7: M6 | H7: T0C0_M6 | I7: =IF(ISBLANK(Response!F9),"",Response!F9) -> UK Corporate Governance Code 2024
B8: Organisation | C8: T0 | D8: Housing Provider details | E8: C0 | F8: Which Code of Governance does the housing provider follow, if any? | G8: M6 | H8: T0C0_M6i | I8: =IF(ISBLANK(Response!G9),"",Response!G9) -> ...(enter 'Other' governance code here)…
B9: Organisation | C9: T0 | D9: Housing Provider details | E9: C0 | F9: Is the housing provider a Not-For-Profit? | G9: M7 | H9: T0C0_M7 | I9: =IF(ISBLANK(Response!F10),"",Response!F10) -> Yes
B10: Organisation | C10: T0 | D10: Housing Provider details | E10: C0 | F10: If not, who is the largest shareholder? | G10: M8 | H10: T0C0_M8 | I10: =IF(ISBLANK(Response!F11),"",Response!F11)
B11: Organisation | C11: T0 | D11: Housing Provider details | E11: C0 | F11: What is their % of economic ownership? | G11: M9 | H11: T0C0_M9 | I11: =IF(ISBLANK(Response!F12),"",Response!F12)
B12: Organisation | C12: T0 | D12: Housing Provider details | E12: C0 | F12: What % of voting rights do they control? | G12: M10 | H12: T0C0_M10 | I12: =IF(ISBLANK(Response!F13),"",Response!F13)
A13: =$I$2 -> Midland Heart | B13: Climate | C13: T1 | D13: Distribution of EPC ratings of the housing provider's existing homes (those completed before the last financial year). | E13: C1 | F13: % of homes rated A | G13: M1 | H13: T1C1_M1 | I13: =IF(ISBLANK(Response!F16),"",Response!F16) -> 0.010960201 | J13: T1C1_M1
A14: =$I$2 -> Midland Heart | B14: Climate | C14: T1 | D14: Distribution of EPC ratings of the housing provider's existing homes (those completed before the last financial year). | E14: C1 | F14: % of homes rated B | G14: M2 | H14: T1C1_M2 | I14: =IF(ISBLANK(Response!F17),"",Response!F17) -> 0.20671449 | J14: T1C1_M2
A15: =$I$2 -> Midland Heart | B15: Climate | C15: T1 | D15: Distribution of EPC ratings of the housing provider's existing homes (those completed before the last financial year). | E15: C1 | F15: % of homes rated C | G15: M3 | H15: T1C1_M3 | I15: =IF(ISBLANK(Response!F18),"",Response!F18) -> 0.62039835 | J15: T1C1_M3
A16: =$I$2 -> Midland Heart | B16: Climate | C16: T1 | D16: Distribution of EPC ratings of the housing provider's existing homes (those completed before the last financial year). | E16: C1 | F16: % of homes rated D | G16: M4 | H16: T1C1_M4 | I16: =IF(ISBLANK(Response!F19),"",Response!F19) -> 0.16163566 | J16: T1C1_M4
A17: =$I$2 -> Midland Heart | B17: Climate | C17: T1 | D17: Distribution of EPC ratings of the housing provider's existing homes (those completed before the last financial year). | E17: C1 | F17: % of homes rated E or worse | G17: M5 | H17: T1C1_M5 | I17: =IF(ISBLANK(Response!F20),"",Response!F20) -> 0.00018206314 | J17: T1C1_M5
A18: =$I$2 -> Midland Heart | B18: Climate | C18: T1 | D18: Distribution of EPC ratings of the housing provider's existing homes (those completed before the last financial year). | E18: C1 | F18: % of homes without EPC rating (unknown) | G18: M6 | H18: T1C1_M6 | I18: =IF(ISBLANK(Response!F21),"",Response!F21) -> 0.00010923788 | J18: T1C1_M6
A19: =$I$2 -> Midland Heart | B19: Climate | C19: T1 | D19: Average SAP rating of existing homes (those completed before the last financial year). | E19: C1E | F19: Average Rating | G19: M1 | H19: T1C1E_M1 | I19: =IF(ISBLANK(Response!I16),"",Response!I16) -> 74 | J19: T1C1E_M1
A20: =$I$2 -> Midland Heart | B20: Climate | C20: T1 | D20: Energy use intensity of existing homes (those completed before the last financial year). | E20: C1E | F20: kWh/m²/yr | G20: M2 | H20: T1C1E_M2 | I20: =IF(ISBLANK(Response!I17),"",Response!I17) -> 194 | J20: T1C1E_M2
A21: =$I$2 -> Midland Heart | B21: Climate | C21: T1 | D21: Distribution of EPC ratings of the housing provider's new homes (those completed in the last financial year). | E21: C2 | F21: % of homes rated A | G21: M1 | H21: T1C2_M1 | I21: =IF(ISBLANK(Response!F22),"",Response!F22) -> 0.3 | J21: T1C2_M1
A22: =$I$2 -> Midland Heart | B22: Climate | C22: T1 | D22: Distribution of EPC ratings of the housing provider's new homes (those completed in the last financial year). | E22: C2 | F22: % of homes rated B | G22: M2 | H22: T1C2_M2 | I22: =IF(ISBLANK(Response!F23),"",Response!F23) -> 0.7 | J22: T1C2_M2
A23: =$I$2 -> Midland Heart | B23: Climate | C23: T1 | D23: Distribution of EPC ratings of the housing provider's new homes (those completed in the last financial year). | E23: C2 | F23: % of homes rated C | G23: M3 | H23: T1C2_M3 | I23: =IF(ISBLANK(Response!F24),"",Response!F24) -> 0 | J23: T1C2_M3
A24: =$I$2 -> Midland Heart | B24: Climate | C24: T1 | D24: Distribution of EPC ratings of the housing provider's new homes (those completed in the last financial year). | E24: C2 | F24: % of homes rated D | G24: M4 | H24: T1C2_M4 | I24: =IF(ISBLANK(Response!F25),"",Response!F25) -> 0 | J24: T1C2_M4
A25: =$I$2 -> Midland Heart | B25: Climate | C25: T1 | D25: Distribution of EPC ratings of the housing provider's new homes (those completed in the last financial year). | E25: C2 | F25: % of homes rated E or worse | G25: M5 | H25: T1C2_M5 | I25: =IF(ISBLANK(Response!F26),"",Response!F26) -> 0 | J25: T1C2_M5
A26: =$I$2 -> Midland Heart | B26: Climate | C26: T1 | D26: Distribution of EPC ratings of the housing provider's new homes (those completed in the last financial year). | E26: C2 | F26: % of homes without EPC rating (unknown) | G26: M6 | H26: T1C2_M6 | I26: =IF(ISBLANK(Response!F27),"",Response!F27) -> 0 | J26: T1C2_M6
A27: =$I$2 -> Midland Heart | B27: Climate | C27: T1 | D27: Average SAP rating of new homes (those completed in the last financial year). | E27: C2E | F27: Average Rating | G27: M1 | H27: T1C2E_M1 | I27: =IF(ISBLANK(Response!I22),"",Response!I22) -> 85 | J27: T1C2E_M1
A28: =$I$2 -> Midland Heart | B28: Climate | C28: T1 | D28: Does the housing provider have a Net Zero target and strategy? If so, what is it and when does the housing provider intend to be net zeero by? | E28: C3 | F28: Yes/No | G28: M1 | H28: T1C3_M1 | I28: =IF(ISBLANK(Response!F28),"",Response!F28) -> Yes | J28: T1C3_M1
A29: =$I$2 -> Midland Heart | B29: Climate | C29: T1 | D29: Does the housing provider have a Net Zero target and strategy? If so, what is it and when does the housing provider intend to be Net Zero by? | E29: C3 | F29: Qualitative response | G29: M2 | H29: T1C3_M2 | I29: =IF(ISBLANK(Response!F29),"",Response!F29) -> We have a corporate target to be net zero by 2050. We also have corporate mid-term targets to reduce our Scope 1 & 2 emissions within a WB2C pathway by 2030 and an EPC C or above target for all our homes by 2030. | J29: T1C3_M2
A30: =$I$2 -> Midland Heart | B30: Climate | C30: T1 | D30: Is the housing provider's net zero commitment in line with the Science Based Target (SBT) initiative? | E30: C3E | F30: Yes/No | G30: M1 | H30: T1C3E_M1 | I30: =IF(ISBLANK(Response!I28),"",Response!I28) -> Yes | J30: T1C3E_M1
A31: =$I$2 -> Midland Heart | B31: Climate | C31: T1 | D31: Does the housing provider have a costed net zero transition plan? | E31: C3E | F31: Yes/No | G31: M2 | H31: T1C3E_M2 | I31: =IF(ISBLANK(Response!I29),"",Response!I29) -> Partial. We have a plan to meet the current legal requirements, and we have stress tested further expenditure to meet draft MEES requirements to 2039 | J31: T1C3E_M2
A32: =$I$2 -> Midland Heart | B32: Climate | C32: T1 | D32: What progress has the housing provider achieved in the last 12 months towards its Net Zero targets and strategy? What retrofit activities has the housing provider undertaken in the last 12 months in relation to its housing stock? | E32: C4 | F32: Qualitative response | G32: M1 | H32: T1C4_M1 | I32: =IF(ISBLANK(Response!F30),"",Response!F30) -> Our total CO2 emissions were 91,593 tonnes, representing a decrease of c.12,000 tonnes compared to last year. We are c.32,000 tonnes below our 2019-20 baseline and on track to meet our science based Well Below 2°C (WB2C) net zero target for 2050. Key drivers of change: • Property portfolio simplification – The sale of properties last year led to significant reductions in our Scope 1 and 2 purchased energy emissions. This has been partially offset by the building of new energy efficient homes. • Purchasing bulk renewable electricity – our purchased contracted electricity is fully renewable (REGO backed) since October 2025. • Fleet and travel emissions – Scope 1 fuel use from our van fleet increased slightly reflecting a higher number of jobs attended by operatives. Expensed fuel use by colleagues also rose, driven by increasing scheme visits and policy change. • Home energy efficiency – Improvements to independently heated homes delivered a combined c7,000 tonnes reduction in Scope 3 emissions. We have now reached 84% EPC C or above, up from 80% last year. Energy efficiency measures: We increased investment in energy efficiency through our retrofit programmes and Homes for Modern Living initiatives in tenants’ homes, and we built all new homes to a high energy-efficiency standard of EPC B or above. • 312 homes improved from EPC E–D to EPC C–A through our Social Housing Decarbonisation Fund (SHDF) Wave 2 programme • 871 new smart or automated meters (AMRs) installed since 2023 • 1,662 new energy-efficient boilers installed • 201 electric heating systems installed (including storage and panel heaters) • 621 solar PV arrays installed across existing homes, including in-roof PV through our re-roofing programme • 140 properties fitted with new double-glazed windows • 436 properties received insulation and triple-glazed windows • 849 insulation top-ups completed • 1,327 homes improved from EPC D (or below) to EPC C (or above) toward our 2030 goal | J32: T1C4_M1
A33: =$I$2 -> Midland Heart | B33: Climate | C33: T1 | D33: Number of homes that have been retrofitted in the last financial year. | E33: C4E | F33: # of homes | G33: M1 | H33: T1C4E_M1 | I33: =IF(ISBLANK(Response!I30),"",Response!I30) -> 1327 | J33: T1C4E_M1
A34: =$I$2 -> Midland Heart | B34: Climate | C34: T1 | D34: Homes that have been retrofitted in the last financial year as a percentage of the total homes the housing provider needs to retrofit to meet its net zero commitments. | E34: C4E | F34: % of homes requiring retrofit activities | G34: M2 | H34: T1C4E_M2 | I34: =IF(ISBLANK(Response!I31),"",Response!I31) -> 0.22836001 | J34: T1C4E_M2
A35: =$I$2 -> Midland Heart | B35: Climate | C35: T1 | D35: Scope 1, Scope 2 and Scope 3 Green House Gas emissions Scope 1, Scope 2 and Scope 3 Green House Gas emissions per home If unable to report emissions data, please state when the housing provider is expected to be able to do so. | E35: C5 | F35: Scope 1: tonnes CO2 equivalent | G35: M1 | H35: T1C5_M1 | I35: =IF(ISBLANK(Response!F32),"",Response!F32) -> 3024.9797 | J35: T1C5_M1
A36: =$I$2 -> Midland Heart | B36: Climate | C36: T1 | D36: Scope 1, Scope 2 and Scope 3 Green House Gas emissions Scope 1, Scope 2 and Scope 3 Green House Gas emissions per home If unable to report emissions data, please state when the housing provider is expected to be able to do so. | E36: C5 | F36: Scope 2: tonnes CO2 equivalent | G36: M2 | H36: T1C5_M2 | I36: =IF(ISBLANK(Response!F33),"",Response!F33) -> 667.63 | J36: T1C5_M2
A37: =$I$2 -> Midland Heart | B37: Climate | C37: T1 | D37: Scope 1, Scope 2 and Scope 3 Green House Gas emissions Scope 1, Scope 2 and Scope 3 Green House Gas emissions per home If unable to report emissions data, please state when the housing provider is expected to be able to do so. | E37: C5 | F37: Scope 3: tonnes CO2 [Category 1 – Purchased goods and services] | G37: M3_1 | H37: T1C5_M3_1 | I37: =IF(ISBLANK(Response!F34),"",Response!F34) -> 28319.328 | J37: T1C5_M3_1
A38: =$I$2 -> Midland Heart | B38: Climate | C38: T1 | D38: Scope 1, Scope 2 and Scope 3 Green House Gas emissions Scope 1, Scope 2 and Scope 3 Green House Gas emissions per home If unable to report emissions data, please state when the housing provider is expected to be able to do so. | E38: C5 | F38: Scope 3: tonnes CO2 [Category 2 – Capital goods] | G38: M3_2 | H38: T1C5_M3_2 | I38: =IF(ISBLANK(Response!F35),"",Response!F35) | J38: T1C5_M3_2
A39: =$I$2 -> Midland Heart | B39: Climate | C39: T1 | D39: Scope 1, Scope 2 and Scope 3 Green House Gas emissions Scope 1, Scope 2 and Scope 3 Green House Gas emissions per home If unable to report emissions data, please state when the housing provider is expected to be able to do so. | E39: C5 | F39: Scope 3: tonnes CO2 [Category 3 – Fuel- and energy-related activities] | G39: M3_3 | H39: T1C5_M3_3 | I39: =IF(ISBLANK(Response!F36),"",Response!F36) | J39: T1C5_M3_3
A40: =$I$2 -> Midland Heart | B40: Climate | C40: T1 | D40: Scope 1, Scope 2 and Scope 3 Green House Gas emissions Scope 1, Scope 2 and Scope 3 Green House Gas emissions per home If unable to report emissions data, please state when the housing provider is expected to be able to do so. | E40: C5 | F40: Scope 3: tonnes CO2 [Category 4 – Upstream transportation and distribution] | G40: M3_4 | H40: T1C5_M3_4 | I40: =IF(ISBLANK(Response!F37),"",Response!F37) -> 152.82046 | J40: T1C5_M3_4
...
